BEGIN:VCALENDAR
VERSION:2.0
PRODID:spatie/icalendar-generator
DESCRIPTION:Events from Dunbar Free Library
X-WR-CALDESC:Events from Dunbar Free Library
REFRESH-INTERVAL;VALUE=DURATION:PT1440M
X-PUBLISHED-TTL:PT1440M
BEGIN:VTIMEZONE
TZID:America/New_York
BEGIN:STANDARD
DTSTART:20251102T020000Z
TZOFFSETFROM:-0400
TZOFFSETTO:-0500
END:STANDARD
BEGIN:DAYLIGHT
DTSTART:20260308T020000Z
TZOFFSETFROM:-0500
TZOFFSETTO:-0400
END:DAYLIGHT
END:VTIMEZONE
BEGIN:VTIMEZONE
TZID:UTC
BEGIN:STANDARD
DTSTART:20250729T150919Z
TZOFFSETFROM:+0000
TZOFFSETTO:+0000
END:STANDARD
END:VTIMEZONE
BEGIN:VEVENT
UID:739-3
DTSTAMP:20260425T150919Z
SUMMARY:Storytime with Ms. Dawn
LOCATION:Dunbar Free Library Rt 401 NH 10 South  Grantham New Hampshire 037
 53
ORGANIZER;CN=Megen Pindell:MAILTO:dfltab401@gmail.com
RRULE:FREQ=WEEKLY;UNTIL=20290307T000000Z
DTSTART;TZID=America/New_York:20260401T100000
DTEND;TZID=America/New_York:20260401T110000
X-ALT-DESC;FMTTYPE=TEXT/HTML:
CATEGORIES:Storytime,  Lap Babies
URL;VALUE=URI:https://dunbarlibrary.org/mc-events/storytime-with-ms-dawn/?m
 c_id=739
METHOD:PUBLISH
END:VEVENT
BEGIN:VEVENT
UID:1171-164
DTSTAMP:20260425T150919Z
SUMMARY:After School Club
LOCATION:Dunbar Free Library Rt 401 NH 10 South  Grantham New Hampshire 037
 53
ORGANIZER;CN=Megen Pindell:MAILTO:dfltab401@gmail.com
RRULE:FREQ=WEEKLY;UNTIL=20260603T000000Z
DTSTART;TZID=America/New_York:20260401T150000
DTEND;TZID=America/New_York:20260401T170000
X-ALT-DESC;FMTTYPE=TEXT/HTML:
CATEGORIES:Tweens
URL;VALUE=URI:https://dunbarlibrary.org/mc-events/after-school-club/?mc_id=
 1171
METHOD:PUBLISH
END:VEVENT
BEGIN:VEVENT
UID:959-9
DTSTAMP:20260425T150919Z
SUMMARY:Monday Meetups
LOCATION:Dunbar Free Library Rt 401 NH 10 South  Grantham New Hampshire 037
 53
ORGANIZER;CN=Megen Pindell:MAILTO:dfltab401@gmail.com
RRULE:FREQ=WEEKLY;UNTIL=20270301T000000Z
DTSTART;TZID=America/New_York:20260406T130000
DTEND;TZID=America/New_York:20260406T140000
X-ALT-DESC;FMTTYPE=TEXT/HTML:Come make new friends\, have some coffee\, bui
 ld a puzzle\, or play a game. Meet p with other people and take sometime o
 ut of the house but still in the warmth!
CATEGORIES:Adults,  Information
URL;VALUE=URI:https://dunbarlibrary.org/mc-events/monday-meetups/?mc_id=959
METHOD:PUBLISH
END:VEVENT
BEGIN:VEVENT
UID:1362-191
DTSTAMP:20260425T150919Z
SUMMARY:Chef's Corner\, 2:00 PM
LOCATION:Dunbar Free Library Rt 401 NH 10 South  Grantham New Hampshire 037
 53
ORGANIZER;CN=web person:MAILTO:dflprogramming@comcast.net
DTSTART;TZID=America/New_York:20260411T140000
DTEND;TZID=America/New_York:20260411T150000
X-ALT-DESC;FMTTYPE=TEXT/HTML:Recipes based upon the ideas from the book Wha
 t to Cook When You Don't feel Like Cooking by Caroline Chambers. Books are
  present at the library for narrowing down one's cooking choices for the d
 ay. &amp;nbsp\;
CATEGORIES:Adults
URL;VALUE=URI:https://dunbarlibrary.org/mc-events/chefs-corner-200-pm/
METHOD:PUBLISH
END:VEVENT
BEGIN:VEVENT
UID:1416-193
DTSTAMP:20260425T150919Z
SUMMARY:Musical Munchkins
LOCATION:Dunbar Free Library Rt 401 NH 10 South  Grantham New Hampshire 037
 53
ORGANIZER;CN=web person:MAILTO:dflprogramming@comcast.net
RRULE:FREQ=WEEKLY;UNTIL=20260515T000000Z
DTSTART;TZID=America/New_York:20260417T103000
DTEND;TZID=America/New_York:20260417T110000
X-ALT-DESC;FMTTYPE=TEXT/HTML:Join us for story time and musical fun! We sta
 rt each session with stories and then we dance and sing to favorite childr
 en songs! A great time is had by all. 10:30 AM on Fridays in the Children'
 s Room.Musical Munchkins
CATEGORIES:Kids,  Lap Babies
URL;VALUE=URI:https://dunbarlibrary.org/mc-events/musical-munchkins-2/?mc_i
 d=1416
METHOD:PUBLISH
END:VEVENT
END:VCALENDAR