BEGIN:VCALENDAR
VERSION:2.0
PRODID:spatie/icalendar-generator
DESCRIPTION:Events from Dunbar Free Library
X-WR-CALDESC:Events from Dunbar Free Library
REFRESH-INTERVAL;VALUE=DURATION:PT1440M
X-PUBLISHED-TTL:PT1440M
BEGIN:VTIMEZONE
TZID:America/New_York
BEGIN:STANDARD
DTSTART:20231105T020000Z
TZOFFSETFROM:-0400
TZOFFSETTO:-0500
END:STANDARD
BEGIN:DAYLIGHT
DTSTART:20240310T020000Z
TZOFFSETFROM:-0500
TZOFFSETTO:-0400
END:DAYLIGHT
END:VTIMEZONE
BEGIN:VTIMEZONE
TZID:UTC
BEGIN:STANDARD
DTSTART:20250725T091758Z
TZOFFSETFROM:+0000
TZOFFSETTO:+0000
END:STANDARD
END:VTIMEZONE
BEGIN:VEVENT
UID:350-16
DTSTAMP:20260421T091758Z
SUMMARY:Teen Night- Movie Night- Wonka
LOCATION:Dunbar Free Library Rt 401 NH 10 South  Grantham New Hampshire 037
 53
ORGANIZER;CN=web person:MAILTO:dflprogramming@comcast.net
DTSTART;TZID=America/New_York:20240322T180000
DTEND;TZID=America/New_York:20240322T200000
X-ALT-DESC;FMTTYPE=TEXT/HTML:Wonka\, Pizza\, and Popcorn. What more could y
 ou ask for?
CATEGORIES:Tweens,  Friends of Dunbar Free Library Sponsored
URL;VALUE=URI:https://dunbarlibrary.org/mc-events/teen-night-movie-night-wo
 nka/
METHOD:PUBLISH
END:VEVENT
END:VCALENDAR